BEGIN:VCALENDAR
VERSION:2.0
PRODID:-//Adham Somantrie/AyoLari.in//NONSGML v1.0//EN
CALSCALE:GREGORIAN
BEGIN:VEVENT
UID:e00da03b685a0dd18fb6a08af0923de0
DTSTAMP:20260421T005936Z
LOCATION:Jakarta
DESCRIPTION:ayolari.in
URL;VALUE=URI:https://ayolari.in/lomba/h24run
SUMMARY:H24Run
DTSTART;VALUE=DATE;TZID=ASIA-JAKARTA:20141102
DTEND;VALUE=DATE;TZID=ASIA-JAKARTA:20141103
TRANSP:TRANSPARENT
END:VEVENT
END:VCALENDAR