BEGIN:VCALENDAR
VERSION:2.0
PRODID:-//Adham Somantrie/AyoLari.in//NONSGML v1.0//EN
CALSCALE:GREGORIAN
BEGIN:VEVENT
UID:5ca3e9b122f61f8f06494c97b1afccf3
DTSTAMP:20260420T023654Z
LOCATION:Virtual Run
DESCRIPTION:ayolari.in
URL;VALUE=URI:https://ayolari.in/lomba/iconic-virtual-run-christmas-series
SUMMARY:Iconic Virtual Run - Christmas Series
DTSTART;VALUE=DATE;TZID=ASIA-JAKARTA:20181215
DTEND;VALUE=DATE;TZID=ASIA-JAKARTA:20181216
TRANSP:TRANSPARENT
END:VEVENT
END:VCALENDAR