BEGIN:VCALENDAR
VERSION:2.0
PRODID:-//Adham Somantrie/AyoLari.in//NONSGML v1.0//EN
CALSCALE:GREGORIAN
BEGIN:VEVENT
UID:d82118376df344b0010f53909b961db3
DTSTAMP:20260420T023653Z
LOCATION:Bengkulu
DESCRIPTION:ayolari.in
URL;VALUE=URI:https://ayolari.in/lomba/bengkulu-city-run-2018
SUMMARY:Bengkulu City Run 2018
DTSTART;VALUE=DATE;TZID=ASIA-JAKARTA:20181223
DTEND;VALUE=DATE;TZID=ASIA-JAKARTA:20181224
TRANSP:TRANSPARENT
END:VEVENT
END:VCALENDAR