BEGIN:VCALENDAR
VERSION:2.0
PRODID:-//Adham Somantrie/AyoLari.in//NONSGML v1.0//EN
CALSCALE:GREGORIAN
BEGIN:VEVENT
UID:013d407166ec4fa56eb1e1f8cbe183b9
DTSTAMP:20260421T020952Z
LOCATION:Jakarta
DESCRIPTION:ayolari.in
URL;VALUE=URI:https://ayolari.in/lomba/nike-we-run-jakarta-2014
SUMMARY:BajakJKT10K: Nike We Run Jakarta 2014
DTSTART;VALUE=DATE;TZID=ASIA-JAKARTA:20141213
DTEND;VALUE=DATE;TZID=ASIA-JAKARTA:20141214
TRANSP:TRANSPARENT
END:VEVENT
END:VCALENDAR