BEGIN:VCALENDAR
VERSION:2.0
PRODID:-//Adham Somantrie/AyoLari.in//NONSGML v1.0//EN
CALSCALE:GREGORIAN
BEGIN:VEVENT
UID:70feb62b69f16e0238f741fab228fec2
DTSTAMP:20260420T023751Z
LOCATION:Yogyakarta
DESCRIPTION:ayolari.in
URL;VALUE=URI:https://ayolari.in/lomba/jogja-color-walk-2018
SUMMARY:Jogja Color Walk 2018
DTSTART;VALUE=DATE;TZID=ASIA-JAKARTA:20181223
DTEND;VALUE=DATE;TZID=ASIA-JAKARTA:20181224
TRANSP:TRANSPARENT
END:VEVENT
END:VCALENDAR