BEGIN:VCALENDAR
VERSION:2.0
PRODID:-//Adham Somantrie/AyoLari.in//NONSGML v1.0//EN
CALSCALE:GREGORIAN
BEGIN:VEVENT
UID:3988c7f88ebcb58c6ce932b957b6f332
DTSTAMP:20260420T234642Z
LOCATION:Jakarta
DESCRIPTION:ayolari.in
URL;VALUE=URI:https://ayolari.in/lomba/habitat-day-fun-run-5k
SUMMARY:Habitat Day Fun Run 5K
DTSTART;VALUE=DATE;TZID=ASIA-JAKARTA:20141012
DTEND;VALUE=DATE;TZID=ASIA-JAKARTA:20141013
TRANSP:TRANSPARENT
END:VEVENT
END:VCALENDAR