BEGIN:VCALENDAR
VERSION:2.0
PRODID:-//Adham Somantrie/AyoLari.in//NONSGML v1.0//EN
CALSCALE:GREGORIAN
BEGIN:VEVENT
UID:0e3a37aa85a14e359df74fa77eded3f6
DTSTAMP:20260420T021816Z
LOCATION:Payakumbuh
DESCRIPTION:ayolari.in
URL;VALUE=URI:https://ayolari.in/lomba/payakumbuh-run
SUMMARY:Payakumbuh Run
DTSTART;VALUE=DATE;TZID=ASIA-JAKARTA:20181209
DTEND;VALUE=DATE;TZID=ASIA-JAKARTA:20181210
TRANSP:TRANSPARENT
END:VEVENT
END:VCALENDAR