BEGIN:VCALENDAR
VERSION:2.0
PRODID:-//Adham Somantrie/AyoLari.in//NONSGML v1.0//EN
CALSCALE:GREGORIAN
BEGIN:VEVENT
UID:6c1da886822c67822bcf3679d04369fa
DTSTAMP:20260420T081339Z
LOCATION:Virtual Run
DESCRIPTION:ayolari.in
URL;VALUE=URI:https://ayolari.in/lomba/harimau-sumatra-run
SUMMARY:Harimau Sumatra Run
DTSTART;VALUE=DATE;TZID=ASIA-JAKARTA:20181126
DTEND;VALUE=DATE;TZID=ASIA-JAKARTA:20181127
TRANSP:TRANSPARENT
END:VEVENT
END:VCALENDAR