BEGIN:VCALENDAR
VERSION:2.0
PRODID:-//Adham Somantrie/AyoLari.in//NONSGML v1.0//EN
CALSCALE:GREGORIAN
BEGIN:VEVENT
UID:cf9a242b70f45317ffd281241fa66502
DTSTAMP:20260421T203347Z
LOCATION:Virtual Run
DESCRIPTION:ayolari.in
URL;VALUE=URI:https://ayolari.in/lomba/the-city-run-2018
SUMMARY:The City Run 2018
DTSTART;VALUE=DATE;TZID=ASIA-JAKARTA:20181120
DTEND;VALUE=DATE;TZID=ASIA-JAKARTA:20181121
TRANSP:TRANSPARENT
END:VEVENT
END:VCALENDAR