BEGIN:VCALENDAR
VERSION:2.0
PRODID:-//Adham Somantrie/AyoLari.in//NONSGML v1.0//EN
CALSCALE:GREGORIAN
BEGIN:VEVENT
UID:8d3369c4c086f236fabf61d614a32818
DTSTAMP:20260420T081220Z
LOCATION:Solo
DESCRIPTION:ayolari.in
URL;VALUE=URI:https://ayolari.in/lomba/bri-run-2018
SUMMARY:BRI Run 2018
DTSTART;VALUE=DATE;TZID=ASIA-JAKARTA:20181202
DTEND;VALUE=DATE;TZID=ASIA-JAKARTA:20181203
TRANSP:TRANSPARENT
END:VEVENT
END:VCALENDAR