BEGIN:VCALENDAR
VERSION:2.0
PRODID:-//Adham Somantrie/AyoLari.in//NONSGML v1.0//EN
CALSCALE:GREGORIAN
BEGIN:VEVENT
UID:c26820b8a4c1b3c2aa868d6d57e14a79
DTSTAMP:20260420T021747Z
LOCATION:Virtual Run
DESCRIPTION:ayolari.in
URL;VALUE=URI:https://ayolari.in/lomba/the-x-factorun
SUMMARY:The X-FACTORUN
DTSTART;VALUE=DATE;TZID=ASIA-JAKARTA:20181216
DTEND;VALUE=DATE;TZID=ASIA-JAKARTA:20181217
TRANSP:TRANSPARENT
END:VEVENT
END:VCALENDAR