BEGIN:VCALENDAR
VERSION:2.0
PRODID:-//Adham Somantrie/AyoLari.in//NONSGML v1.0//EN
CALSCALE:GREGORIAN
BEGIN:VEVENT
UID:980ecd059122ce2e50136bda65c25e07
DTSTAMP:20260420T051229Z
LOCATION:Tangerang
DESCRIPTION:ayolari.in
URL;VALUE=URI:https://ayolari.in/lomba/tangerang-family-run
SUMMARY:Tangerang Family Run
DTSTART;VALUE=DATE;TZID=ASIA-JAKARTA:20181216
DTEND;VALUE=DATE;TZID=ASIA-JAKARTA:20181217
TRANSP:TRANSPARENT
END:VEVENT
END:VCALENDAR