BEGIN:VCALENDAR
VERSION:2.0
PRODID:-//Adham Somantrie/AyoLari.in//NONSGML v1.0//EN
CALSCALE:GREGORIAN
BEGIN:VEVENT
UID:af4732711661056eadbf798ba191272a
DTSTAMP:20260420T075335Z
LOCATION:Malang
DESCRIPTION:ayolari.in
URL;VALUE=URI:https://ayolari.in/lomba/run-forest-run
SUMMARY:Run Forest Run
DTSTART;VALUE=DATE;TZID=ASIA-JAKARTA:20181202
DTEND;VALUE=DATE;TZID=ASIA-JAKARTA:20181203
TRANSP:TRANSPARENT
END:VEVENT
END:VCALENDAR