BEGIN:VCALENDAR
VERSION:2.0
PRODID:-//Adham Somantrie/AyoLari.in//NONSGML v1.0//EN
CALSCALE:GREGORIAN
BEGIN:VEVENT
UID:8b0dc65f996f98fd178a9defd0efa077
DTSTAMP:20260420T023653Z
LOCATION:Pangandaran
DESCRIPTION:ayolari.in
URL;VALUE=URI:https://ayolari.in/lomba/jabar-international-marathon-2018
SUMMARY:Jabar International Marathon 2018
DTSTART;VALUE=DATE;TZID=ASIA-JAKARTA:20181202
DTEND;VALUE=DATE;TZID=ASIA-JAKARTA:20181203
TRANSP:TRANSPARENT
END:VEVENT
END:VCALENDAR