BEGIN:VCALENDAR
VERSION:2.0
PRODID:-//Adham Somantrie/AyoLari.in//NONSGML v1.0//EN
CALSCALE:GREGORIAN
BEGIN:VEVENT
UID:7f1de29e6da19d22b51c68001e7e0e54
DTSTAMP:20260420T061643Z
LOCATION:Magelang
DESCRIPTION:ayolari.in
URL;VALUE=URI:https://ayolari.in/lomba/borobudur-10k-2014
SUMMARY:Borobudur 10K 2014
DTSTART;VALUE=DATE;TZID=ASIA-JAKARTA:20141116
DTEND;VALUE=DATE;TZID=ASIA-JAKARTA:20141117
TRANSP:TRANSPARENT
END:VEVENT
END:VCALENDAR