BEGIN:VCALENDAR
VERSION:2.0
PRODID:-//Adham Somantrie/AyoLari.in//NONSGML v1.0//EN
CALSCALE:GREGORIAN
BEGIN:VEVENT
UID:82965d4ed8150294d4330ace00821d77
DTSTAMP:20260421T204234Z
LOCATION:Bengkulu
DESCRIPTION:ayolari.in
URL;VALUE=URI:https://ayolari.in/lomba/bengkulu-triathlon
SUMMARY:Bengkulu Triathlon
DTSTART;VALUE=DATE;TZID=ASIA-JAKARTA:20181222
DTEND;VALUE=DATE;TZID=ASIA-JAKARTA:20181223
TRANSP:TRANSPARENT
END:VEVENT
END:VCALENDAR