BEGIN:VCALENDAR
VERSION:2.0
PRODID:-//Adham Somantrie/AyoLari.in//NONSGML v1.0//EN
CALSCALE:GREGORIAN
BEGIN:VEVENT
UID:5e1b18c4c6a6d31695acbae3fd70ecc6
DTSTAMP:20260420T023757Z
LOCATION:Cilegon
DESCRIPTION:ayolari.in
URL;VALUE=URI:https://ayolari.in/lomba/himatemia-run-for-charity
SUMMARY:Himatemia Run for Charity
DTSTART;VALUE=DATE;TZID=ASIA-JAKARTA:20181111
DTEND;VALUE=DATE;TZID=ASIA-JAKARTA:20181112
TRANSP:TRANSPARENT
END:VEVENT
END:VCALENDAR