BEGIN:VCALENDAR
VERSION:2.0
PRODID:-//Adham Somantrie/AyoLari.in//NONSGML v1.0//EN
CALSCALE:GREGORIAN
BEGIN:VEVENT
UID:4f87658ef0de194413056248a00ce009
DTSTAMP:20260420T051350Z
LOCATION:Virtual Run
DESCRIPTION:ayolari.in
URL;VALUE=URI:https://ayolari.in/lomba/klog-virtual-run
SUMMARY:KLOG Virtual Run
DTSTART;VALUE=DATE;TZID=ASIA-JAKARTA:20181101
DTEND;VALUE=DATE;TZID=ASIA-JAKARTA:20181102
TRANSP:TRANSPARENT
END:VEVENT
END:VCALENDAR