BEGIN:VCALENDAR
VERSION:2.0
PRODID:-//Adham Somantrie/AyoLari.in//NONSGML v1.0//EN
CALSCALE:GREGORIAN
BEGIN:VEVENT
UID:d10ec7c16cbe9de8fbb1c42787c3ec26
DTSTAMP:20260420T050508Z
LOCATION:Surabaya
DESCRIPTION:ayolari.in
URL;VALUE=URI:https://ayolari.in/lomba/avatar-charity-run
SUMMARY:Avatar Charity Run
DTSTART;VALUE=DATE;TZID=ASIA-JAKARTA:20181120
DTEND;VALUE=DATE;TZID=ASIA-JAKARTA:20181121
TRANSP:TRANSPARENT
END:VEVENT
END:VCALENDAR