BEGIN:VCALENDAR
VERSION:2.0
PRODID:-//Adham Somantrie/AyoLari.in//NONSGML v1.0//EN
CALSCALE:GREGORIAN
BEGIN:VEVENT
UID:05311655a15b75fab86956663e1819cd
DTSTAMP:20260420T050422Z
LOCATION:Depok
DESCRIPTION:ayolari.in
URL;VALUE=URI:https://ayolari.in/lomba/5-for-life-2018
SUMMARY:5 for LIFE 2018
DTSTART;VALUE=DATE;TZID=ASIA-JAKARTA:20181118
DTEND;VALUE=DATE;TZID=ASIA-JAKARTA:20181119
TRANSP:TRANSPARENT
END:VEVENT
END:VCALENDAR