BEGIN:VCALENDAR
VERSION:2.0
PRODID:-//Adham Somantrie/AyoLari.in//NONSGML v1.0//EN
CALSCALE:GREGORIAN
BEGIN:VEVENT
UID:e077e1a544eec4f0307cf5c3c721d944
DTSTAMP:20260420T051223Z
LOCATION:Surabaya
DESCRIPTION:ayolari.in
URL;VALUE=URI:https://ayolari.in/lomba/run-for-care-2018-heroes-run
SUMMARY:Run for Care 2018: Heroes Run
DTSTART;VALUE=DATE;TZID=ASIA-JAKARTA:20181125
DTEND;VALUE=DATE;TZID=ASIA-JAKARTA:20181126
TRANSP:TRANSPARENT
END:VEVENT
END:VCALENDAR