BEGIN:VCALENDAR
VERSION:2.0
PRODID:-//Adham Somantrie/AyoLari.in//NONSGML v1.0//EN
CALSCALE:GREGORIAN
BEGIN:VEVENT
UID:f9be311e65d81a9ad8150a60844bb94c
DTSTAMP:20260421T203348Z
LOCATION:Bali
DESCRIPTION:ayolari.in
URL;VALUE=URI:https://ayolari.in/lomba/run-4-sulawesi
SUMMARY:Run 4 Sulawesi
DTSTART;VALUE=DATE;TZID=ASIA-JAKARTA:20181014
DTEND;VALUE=DATE;TZID=ASIA-JAKARTA:20181015
TRANSP:TRANSPARENT
END:VEVENT
END:VCALENDAR