BEGIN:VCALENDAR
VERSION:2.0
PRODID:-//Adham Somantrie/AyoLari.in//NONSGML v1.0//EN
CALSCALE:GREGORIAN
BEGIN:VEVENT
UID:65ded5353c5ee48d0b7d48c591b8f430
DTSTAMP:20260420T234811Z
LOCATION:Jakarta
DESCRIPTION:ayolari.in
URL;VALUE=URI:https://ayolari.in/lomba/superball-run
SUMMARY:Superball Run
DTSTART;VALUE=DATE;TZID=ASIA-JAKARTA:20141130
DTEND;VALUE=DATE;TZID=ASIA-JAKARTA:20141201
TRANSP:TRANSPARENT
END:VEVENT
END:VCALENDAR