BEGIN:VCALENDAR
VERSION:2.0
PRODID:-//Adham Somantrie/AyoLari.in//NONSGML v1.0//EN
CALSCALE:GREGORIAN
BEGIN:VEVENT
UID:76cf99d3614e23eabab16fb27e944bf9
DTSTAMP:20260420T022840Z
LOCATION:Tangerang
DESCRIPTION:ayolari.in
URL;VALUE=URI:https://ayolari.in/lomba/pertamina-eco-run-2018
SUMMARY:Pertamina Eco Run 2018
DTSTART;VALUE=DATE;TZID=ASIA-JAKARTA:20181209
DTEND;VALUE=DATE;TZID=ASIA-JAKARTA:20181210
TRANSP:TRANSPARENT
END:VEVENT
END:VCALENDAR