BEGIN:VCALENDAR
VERSION:2.0
PRODID:-//Adham Somantrie/AyoLari.in//NONSGML v1.0//EN
CALSCALE:GREGORIAN
BEGIN:VEVENT
UID:93fb9d4b16aa750c7475b6d601c35c2c
DTSTAMP:20260420T115204Z
LOCATION:Surabaya
DESCRIPTION:ayolari.in
URL;VALUE=URI:https://ayolari.in/lomba/marines-run-under-fire-2018
SUMMARY:Marines Run Under Fire 2018
DTSTART;VALUE=DATE;TZID=ASIA-JAKARTA:20181118
DTEND;VALUE=DATE;TZID=ASIA-JAKARTA:20181119
TRANSP:TRANSPARENT
END:VEVENT
END:VCALENDAR