BEGIN:VCALENDAR
VERSION:2.0
PRODID:-//Adham Somantrie/AyoLari.in//NONSGML v1.0//EN
CALSCALE:GREGORIAN
BEGIN:VEVENT
UID:f3f1b7fc5a8779a9e618e1f23a7b7860
DTSTAMP:20260420T023750Z
LOCATION:Virtual
DESCRIPTION:ayolari.in
URL;VALUE=URI:https://ayolari.in/lomba/iconic-virtual-run-europe-series
SUMMARY:Iconic Virtual Run (Europe Series)
DTSTART;VALUE=DATE;TZID=ASIA-JAKARTA:20181016
DTEND;VALUE=DATE;TZID=ASIA-JAKARTA:20181017
TRANSP:TRANSPARENT
END:VEVENT
END:VCALENDAR