BEGIN:VCALENDAR
VERSION:2.0
PRODID:-//Adham Somantrie/AyoLari.in//NONSGML v1.0//EN
CALSCALE:GREGORIAN
BEGIN:VEVENT
UID:f09696910bdd874a99cd74c8f05b5c44
DTSTAMP:20260420T081232Z
LOCATION:Virtual Run
DESCRIPTION:ayolari.in
URL;VALUE=URI:https://ayolari.in/lomba/batik-run-virtual-race
SUMMARY:Batik Run Virtual Race
DTSTART;VALUE=DATE;TZID=ASIA-JAKARTA:20181015
DTEND;VALUE=DATE;TZID=ASIA-JAKARTA:20181016
TRANSP:TRANSPARENT
END:VEVENT
END:VCALENDAR