BEGIN:VCALENDAR
VERSION:2.0
PRODID:-//Adham Somantrie/AyoLari.in//NONSGML v1.0//EN
CALSCALE:GREGORIAN
BEGIN:VEVENT
UID:f29b38f160f87ae86df31cee1982066f
DTSTAMP:20260420T050205Z
LOCATION:Tangerang Selatan
DESCRIPTION:ayolari.in
URL;VALUE=URI:https://ayolari.in/lomba/colorbond-run-2018
SUMMARY:Colorbond Run 2018
DTSTART;VALUE=DATE;TZID=ASIA-JAKARTA:20181111
DTEND;VALUE=DATE;TZID=ASIA-JAKARTA:20181112
TRANSP:TRANSPARENT
END:VEVENT
END:VCALENDAR