BEGIN:VCALENDAR
VERSION:2.0
PRODID:-//Adham Somantrie/AyoLari.in//NONSGML v1.0//EN
CALSCALE:GREGORIAN
BEGIN:VEVENT
UID:7bb060764a818184ebb1cc0d43d382aa
DTSTAMP:20260420T023455Z
LOCATION:Dumai
DESCRIPTION:ayolari.in
URL;VALUE=URI:https://ayolari.in/lomba/dumai-run-10k-2018
SUMMARY:Dumai Run 10K 2018
DTSTART;VALUE=DATE;TZID=ASIA-JAKARTA:20180930
DTEND;VALUE=DATE;TZID=ASIA-JAKARTA:20181001
TRANSP:TRANSPARENT
END:VEVENT
END:VCALENDAR