BEGIN:VCALENDAR
VERSION:2.0
PRODID:-//Adham Somantrie/AyoLari.in//NONSGML v1.0//EN
CALSCALE:GREGORIAN
BEGIN:VEVENT
UID:1afa34a7f984eeabdbb0a7d494132ee5
DTSTAMP:20260421T005440Z
LOCATION:Jakarta
DESCRIPTION:ayolari.in
URL;VALUE=URI:https://ayolari.in/lomba/3rd-annual-jakarta-sports-week-6k-fun-run
SUMMARY:3rd Annual Jakarta Sports Week 6K Fun Run
DTSTART;VALUE=DATE;TZID=ASIA-JAKARTA:20140928
DTEND;VALUE=DATE;TZID=ASIA-JAKARTA:20140929
TRANSP:TRANSPARENT
END:VEVENT
END:VCALENDAR