BEGIN:VCALENDAR
VERSION:2.0
PRODID:-//Adham Somantrie/AyoLari.in//NONSGML v1.0//EN
CALSCALE:GREGORIAN
BEGIN:VEVENT
UID:fd5c905bcd8c3348ad1b35d7231ee2b1
DTSTAMP:20260420T051335Z
LOCATION:Pekanbaru
DESCRIPTION:ayolari.in
URL;VALUE=URI:https://ayolari.in/lomba/i-loop-run-2018-pekanbaru
SUMMARY:I LOOP RUN 2018 - Pekanbaru
DTSTART;VALUE=DATE;TZID=ASIA-JAKARTA:20181125
DTEND;VALUE=DATE;TZID=ASIA-JAKARTA:20181126
TRANSP:TRANSPARENT
END:VEVENT
END:VCALENDAR