BEGIN:VCALENDAR
VERSION:2.0
PRODID:-//Adham Somantrie/AyoLari.in//NONSGML v1.0//EN
CALSCALE:GREGORIAN
BEGIN:VEVENT
UID:5caf41d62364d5b41a893adc1a9dd5d4
DTSTAMP:20260420T051350Z
LOCATION:Bekasi
DESCRIPTION:ayolari.in
URL;VALUE=URI:https://ayolari.in/lomba/i-loop-run-2018-bekasi
SUMMARY:I LOOP RUN 2018 - Bekasi
DTSTART;VALUE=DATE;TZID=ASIA-JAKARTA:20181125
DTEND;VALUE=DATE;TZID=ASIA-JAKARTA:20181126
TRANSP:TRANSPARENT
END:VEVENT
END:VCALENDAR