BEGIN:VCALENDAR
VERSION:2.0
PRODID:-//Adham Somantrie/AyoLari.in//NONSGML v1.0//EN
CALSCALE:GREGORIAN
BEGIN:VEVENT
UID:d282ef263719ab842e05382dc235f69e
DTSTAMP:20260420T081613Z
LOCATION:Cimahi
DESCRIPTION:ayolari.in
URL;VALUE=URI:https://ayolari.in/lomba/i-loop-run-2018-cimahi
SUMMARY:I LOOP RUN 2018 - Cimahi
DTSTART;VALUE=DATE;TZID=ASIA-JAKARTA:20181118
DTEND;VALUE=DATE;TZID=ASIA-JAKARTA:20181119
TRANSP:TRANSPARENT
END:VEVENT
END:VCALENDAR