BEGIN:VCALENDAR
VERSION:2.0
PRODID:-//Adham Somantrie/AyoLari.in//NONSGML v1.0//EN
CALSCALE:GREGORIAN
BEGIN:VEVENT
UID:2df45244f09369e16ea3f9117ca45157
DTSTAMP:20260420T023456Z
LOCATION:Surabaya
DESCRIPTION:ayolari.in
URL;VALUE=URI:https://ayolari.in/lomba/i-loop-run-2018-surabaya
SUMMARY:I LOOP RUN 2018 - Surabaya
DTSTART;VALUE=DATE;TZID=ASIA-JAKARTA:20181209
DTEND;VALUE=DATE;TZID=ASIA-JAKARTA:20181210
TRANSP:TRANSPARENT
END:VEVENT
END:VCALENDAR