BEGIN:VCALENDAR
VERSION:2.0
PRODID:-//Adham Somantrie/AyoLari.in//NONSGML v1.0//EN
CALSCALE:GREGORIAN
BEGIN:VEVENT
UID:6f3e29a35278d71c7f65495871231324
DTSTAMP:20260420T050012Z
LOCATION:Samarinda
DESCRIPTION:ayolari.in
URL;VALUE=URI:https://ayolari.in/lomba/i-loop-run-2018-samarinda
SUMMARY:I LOOP RUN 2018 - Samarinda
DTSTART;VALUE=DATE;TZID=ASIA-JAKARTA:20181125
DTEND;VALUE=DATE;TZID=ASIA-JAKARTA:20181126
TRANSP:TRANSPARENT
END:VEVENT
END:VCALENDAR