BEGIN:VCALENDAR
VERSION:2.0
PRODID:-//Adham Somantrie/AyoLari.in//NONSGML v1.0//EN
CALSCALE:GREGORIAN
BEGIN:VEVENT
UID:a0833c8a1817526ac555f8d67727caf6
DTSTAMP:20260420T095511Z
LOCATION:Makassar
DESCRIPTION:ayolari.in
URL;VALUE=URI:https://ayolari.in/lomba/i-loop-run-2018-makassar
SUMMARY:I LOOP RUN 2018 - Makassar
DTSTART;VALUE=DATE;TZID=ASIA-JAKARTA:20181104
DTEND;VALUE=DATE;TZID=ASIA-JAKARTA:20181105
TRANSP:TRANSPARENT
END:VEVENT
END:VCALENDAR