BEGIN:VCALENDAR
VERSION:2.0
PRODID:-//Adham Somantrie/AyoLari.in//NONSGML v1.0//EN
CALSCALE:GREGORIAN
BEGIN:VEVENT
UID:a51fb975227d6640e4fe47854476d133
DTSTAMP:20260420T045755Z
LOCATION:Virtual Run
DESCRIPTION:ayolari.in
URL;VALUE=URI:https://ayolari.in/lomba/dont-magerun
SUMMARY:Dont MageRun
DTSTART;VALUE=DATE;TZID=ASIA-JAKARTA:20180921
DTEND;VALUE=DATE;TZID=ASIA-JAKARTA:20180922
TRANSP:TRANSPARENT
END:VEVENT
END:VCALENDAR