BEGIN:VCALENDAR
VERSION:2.0
PRODID:-//Adham Somantrie/AyoLari.in//NONSGML v1.0//EN
CALSCALE:GREGORIAN
BEGIN:VEVENT
UID:0829424ffa0d3a2547b6c9622c77de03
DTSTAMP:20260420T023653Z
LOCATION:Bandung
DESCRIPTION:ayolari.in
URL;VALUE=URI:https://ayolari.in/lomba/bandung-run-2018-4c8b
SUMMARY:Bandung Run 2018
DTSTART;VALUE=DATE;TZID=ASIA-JAKARTA:20181111
DTEND;VALUE=DATE;TZID=ASIA-JAKARTA:20181112
TRANSP:TRANSPARENT
END:VEVENT
END:VCALENDAR