BEGIN:VCALENDAR
VERSION:2.0
PRODID:-//Adham Somantrie/AyoLari.in//NONSGML v1.0//EN
CALSCALE:GREGORIAN
BEGIN:VEVENT
UID:0e9fa1f3e9e66792401a6972d477dcc3
DTSTAMP:20260420T061643Z
LOCATION:Badung\, Bali
DESCRIPTION:ayolari.in
URL;VALUE=URI:https://ayolari.in/lomba/run-to-give-2018
SUMMARY:Run to Give 2018
DTSTART;VALUE=DATE;TZID=ASIA-JAKARTA:20180922
DTEND;VALUE=DATE;TZID=ASIA-JAKARTA:20180923
TRANSP:TRANSPARENT
END:VEVENT
END:VCALENDAR