BEGIN:VCALENDAR
VERSION:2.0
PRODID:-//Adham Somantrie/AyoLari.in//NONSGML v1.0//EN
CALSCALE:GREGORIAN
BEGIN:VEVENT
UID:da11e8cd1811acb79ccf0fd62cd58f86
DTSTAMP:20260420T023752Z
LOCATION:Virtual Run
DESCRIPTION:ayolari.in
URL;VALUE=URI:https://ayolari.in/lomba/hilo-bananarun-99-virtual-race
SUMMARY:HiLo BananaRun - 99 Virtual Race
DTSTART;VALUE=DATE;TZID=ASIA-JAKARTA:20181028
DTEND;VALUE=DATE;TZID=ASIA-JAKARTA:20181029
TRANSP:TRANSPARENT
END:VEVENT
END:VCALENDAR