BEGIN:VCALENDAR
VERSION:2.0
PRODID:-//Adham Somantrie/AyoLari.in//NONSGML v1.0//EN
CALSCALE:GREGORIAN
BEGIN:VEVENT
UID:995665640dc319973d3173a74a03860c
DTSTAMP:20260420T023414Z
LOCATION:Tangerang
DESCRIPTION:ayolari.in
URL;VALUE=URI:https://ayolari.in/lomba/5k-charity-fun-run-for-depression-in-ribbon-run
SUMMARY:5K Charity Fun Run for Depression in RIBBON RUN
DTSTART;VALUE=DATE;TZID=ASIA-JAKARTA:20180909
DTEND;VALUE=DATE;TZID=ASIA-JAKARTA:20180910
TRANSP:TRANSPARENT
END:VEVENT
END:VCALENDAR