BEGIN:VCALENDAR
VERSION:2.0
PRODID:-//Adham Somantrie/AyoLari.in//NONSGML v1.0//EN
CALSCALE:GREGORIAN
BEGIN:VEVENT
UID:ab1a4d0dd4d48a2ba1077c4494791306
DTSTAMP:20260420T045151Z
LOCATION:Jakarta
DESCRIPTION:ayolari.in
URL;VALUE=URI:https://ayolari.in/lomba/binus-run
SUMMARY:Binus RUN
DTSTART;VALUE=DATE;TZID=ASIA-JAKARTA:20181104
DTEND;VALUE=DATE;TZID=ASIA-JAKARTA:20181105
TRANSP:TRANSPARENT
END:VEVENT
END:VCALENDAR