BEGIN:VCALENDAR
VERSION:2.0
PRODID:-//Adham Somantrie/AyoLari.in//NONSGML v1.0//EN
CALSCALE:GREGORIAN
BEGIN:VEVENT
UID:f91e24dfe80012e2a7984afa4480a6d6
DTSTAMP:20260421T203636Z
LOCATION:Makassar
DESCRIPTION:ayolari.in
URL;VALUE=URI:https://ayolari.in/lomba/brunity-relay-2018
SUMMARY:BRunity Relay 2018
DTSTART;VALUE=DATE;TZID=ASIA-JAKARTA:20181111
DTEND;VALUE=DATE;TZID=ASIA-JAKARTA:20181112
TRANSP:TRANSPARENT
END:VEVENT
END:VCALENDAR