BEGIN:VCALENDAR
VERSION:2.0
PRODID:-//Adham Somantrie/AyoLari.in//NONSGML v1.0//EN
CALSCALE:GREGORIAN
BEGIN:VEVENT
UID:193002e668758ea9762904da1a22337c
DTSTAMP:20260420T022105Z
LOCATION:Tangerang Selatan
DESCRIPTION:ayolari.in
URL;VALUE=URI:https://ayolari.in/lomba/danamon-run-2018
SUMMARY:Danamon Run 2018
DTSTART;VALUE=DATE;TZID=ASIA-JAKARTA:20181125
DTEND;VALUE=DATE;TZID=ASIA-JAKARTA:20181126
TRANSP:TRANSPARENT
END:VEVENT
END:VCALENDAR