BEGIN:VCALENDAR
VERSION:2.0
PRODID:-//Adham Somantrie/AyoLari.in//NONSGML v1.0//EN
CALSCALE:GREGORIAN
BEGIN:VEVENT
UID:8e2cfdc275761edc592f73a076197c33
DTSTAMP:20260420T081135Z
LOCATION:Jakarta
DESCRIPTION:ayolari.in
URL;VALUE=URI:https://ayolari.in/lomba/semanggi-urban-warrior
SUMMARY:Semanggi Urban Warrior
DTSTART;VALUE=DATE;TZID=ASIA-JAKARTA:20180923
DTEND;VALUE=DATE;TZID=ASIA-JAKARTA:20180924
TRANSP:TRANSPARENT
END:VEVENT
END:VCALENDAR