BEGIN:VCALENDAR
VERSION:2.0
PRODID:-//Adham Somantrie/AyoLari.in//NONSGML v1.0//EN
CALSCALE:GREGORIAN
BEGIN:VEVENT
UID:0ce2ffd21fc958d9ef0ee9ba5336e357
DTSTAMP:20260420T051101Z
LOCATION:Virtual Run
DESCRIPTION:ayolari.in
URL;VALUE=URI:https://ayolari.in/lomba/hari-olahraga-nasional-run-2018
SUMMARY:Hari Olahraga Nasional Run 2018
DTSTART;VALUE=DATE;TZID=ASIA-JAKARTA:20180909
DTEND;VALUE=DATE;TZID=ASIA-JAKARTA:20180910
TRANSP:TRANSPARENT
END:VEVENT
END:VCALENDAR