BEGIN:VCALENDAR
VERSION:2.0
PRODID:-//Adham Somantrie/AyoLari.in//NONSGML v1.0//EN
CALSCALE:GREGORIAN
BEGIN:VEVENT
UID:6c8dba7d0df1c4a79dd07646be9a26c8
DTSTAMP:20260420T092158Z
LOCATION:Virtual Run
DESCRIPTION:ayolari.in
URL;VALUE=URI:https://ayolari.in/lomba/indonesia-wayang-series-september-kresna
SUMMARY:Indonesia Wayang Series: September - Kresna
DTSTART;VALUE=DATE;TZID=ASIA-JAKARTA:20180901
DTEND;VALUE=DATE;TZID=ASIA-JAKARTA:20180902
TRANSP:TRANSPARENT
END:VEVENT
END:VCALENDAR