BEGIN:VCALENDAR
VERSION:2.0
PRODID:-//Adham Somantrie/AyoLari.in//NONSGML v1.0//EN
CALSCALE:GREGORIAN
BEGIN:VEVENT
UID:dc4c44f624d600aa568390f1f1104aa0
DTSTAMP:20260420T045755Z
LOCATION:Jakarta
DESCRIPTION:ayolari.in
URL;VALUE=URI:https://ayolari.in/lomba/ancop-global-walk
SUMMARY:Ancop Global Walk
DTSTART;VALUE=DATE;TZID=ASIA-JAKARTA:20180916
DTEND;VALUE=DATE;TZID=ASIA-JAKARTA:20180917
TRANSP:TRANSPARENT
END:VEVENT
END:VCALENDAR