BEGIN:VCALENDAR
VERSION:2.0
PRODID:-//Adham Somantrie/AyoLari.in//NONSGML v1.0//EN
CALSCALE:GREGORIAN
BEGIN:VEVENT
UID:f4573fc71c731d5c362f0d7860945b88
DTSTAMP:20260420T075658Z
LOCATION:Batam
DESCRIPTION:ayolari.in
URL;VALUE=URI:https://ayolari.in/lomba/kepri-night-run
SUMMARY:Kepri Night Run
DTSTART;VALUE=DATE;TZID=ASIA-JAKARTA:20180922
DTEND;VALUE=DATE;TZID=ASIA-JAKARTA:20180923
TRANSP:TRANSPARENT
END:VEVENT
END:VCALENDAR