BEGIN:VCALENDAR
VERSION:2.0
PRODID:-//Adham Somantrie/AyoLari.in//NONSGML v1.0//EN
CALSCALE:GREGORIAN
BEGIN:VEVENT
UID:68a83eeb494a308fe5295da69428a507
DTSTAMP:20260421T203510Z
LOCATION:Jakarta
DESCRIPTION:ayolari.in
URL;VALUE=URI:https://ayolari.in/lomba/paulus-fun-run-5k
SUMMARY:Paulus Fun Run 5K
DTSTART;VALUE=DATE;TZID=ASIA-JAKARTA:20181027
DTEND;VALUE=DATE;TZID=ASIA-JAKARTA:20181028
TRANSP:TRANSPARENT
END:VEVENT
END:VCALENDAR